Workbook
Name Projection: KH!$A$4:$M$49
Name Projection: TT!$A$3:$M$32
Name Projection: #REF!

Sheet KH
B1: 42736 | C1: =EDATE(B1,1) -> 42767 | D1: =EDATE(C1,1) -> 42795 | E1: =EDATE(D1,1) -> 42826 | F1: =EDATE(E1,1) -> 42856 | G1: =EDATE(F1,1) -> 42887 | H1: =EDATE(G1,1) -> 42917 | I1: =EDATE(H1,1) -> 42948 | J1: =EDATE(I1,1) -> 42979 | ... AW1: =EDATE(AV1,1) -> 44166
A2: 1. Tiền đầu kỳ | B2: 1207 | C2: =B29 -> 3990.39 | D2: =C29 -> 5337.63 | E2: =D29 -> 7117.44 | F2: =E29 -> 9928.54 | G2: =F29 -> 8184.51 | H2: =G29 -> 9339.52 | I2: =H29 -> 10188.65 | J2: =I29 -> 8872.13 | ... AW2: =AV29 -> 1505.1177
A3: 2. Tiền thu
A4: 2.01 Từ hoạt động kinh doanh | B4: 3925.44 | C4: 2703.96 | D4: 2631.61 | E4: 3823.86 | F4: 2057.85 | G4: 3041.64 | H4: 4709.25 | I4: 2557.4 | J4: 2918.05 | K4: 3161.92 | L4: 3891.69 | M4: 3808.13 | N4: 2872.08 | O4: 3559.5 | P4: 2601 | Q4: 1603.18 | R4: 4168.9 | S4: 4397.49 | T4: 1909.2 | U4: 2918 | V4: 5310.41 | W4: 2367.85 | X4: 3572.03 | Y4: 3065.04 | Z4: 2459.8 | AA4: 3029.23 | AB4: 2317.44 | AC4: 3135.75 | AD4: 4192.8 | AE4: 4884.9 | AF4: 2418.71 | AG4: 3737 | AH4: 4071.59 | AI4: 3153.15 | AJ4: 1856.52 | AK4: 4226 | AL4: 4268.26 | AM4: 4310.9426 | AN4: 4354.052 | AO4: 4397.5925 | AP4: 4441.5685 | AQ4: 4485.9842 | AR4: 4530.844 | AS4: 4576.1524 | AT4: 4621.914 | AU4: 4668.1331 | AV4: 4714.8144 | AW4: 4761.9626
A5: 2.02 Từ lãi tiền gửi, đầu tư, góp vốn | B5: 5401.55 | C5: 5572.8 | D5: 5701.4 | E5: 3376.44 | F5: 2696 | G5: 3108.99 | H5: 3441.98 | I5: 2789.84 | J5: 2263.8 | K5: 2697 | L5: 5047.92 | M5: 3248.4 | N5: 3392.62 | O5: 3709.4 | P5: 2881.18 | Q5: 5451.21 | R5: 4230.52 | S5: 2675.52 | T5: 2731.2 | U5: 2215.2 | V5: 3851.18 | W5: 2700.72 | X5: 3029.76 | Y5: 3364.08 | Z5: 1656.72 | AA5: 3077.76 | AB5: 2123.02 | AC5: 3164 | AD5: 2574.74 | AE5: 4008.9 | AF5: 5898 | AG5: 3102.84 | AH5: 3513.49 | AI5: 2430.82 | AJ5: 2951.64 | AK5: 4731 | AL5: 3908 | AM5: 4158 | AN5: 2207 | AO5: 2709 | AP5: 4913 | AQ5: 2656 | AR5: 2682 | AS5: 1459 | AT5: 1508 | AU5: 1458 | AV5: 3313 | AW5: 2064
A6: 2.03 Từ khoản vay ngắn hạn, dài hạn | B6: 4104 | C6: 2491.68 | D6: 2919.6 | E6: 5572 | F6: 2347.92 | G6: 3307.18 | H6: 2317.7 | I6: 2427.44 | J6: 2616.6 | K6: 1917.75 | L6: 2998.16 | M6: 3320.14 | N6: 4213.72 | O6: 3266.1 | P6: 2351.13 | Q6: 3556.21 | R6: 5069.28 | S6: 5080.58 | T6: 2951.86 | U6: 2955.82 | V6: 2897.22 | W6: 4852.1 | X6: 2614.59 | Y6: 2186.8 | Z6: 4879.3 | AA6: 4214 | AB6: 4101.22 | AC6: 1976.4 | AD6: 4363 | AE6: 2643.34 | AF6: 2441.86 | AG6: 3414.95 | AH6: 5064.3 | AI6: 5050.9 | AJ6: 2112.8 | AK6: 3223 | AL6: 2575 | AM6: 3166 | AN6: 1859 | AO6: 4922 | AP6: 1318 | AQ6: 2056 | AR6: 2875 | AS6: 3882 | AT6: 1253 | AU6: 2392 | AV6: 3869 | AW6: 2130
A7: Tổng thu | B7: =SUM(B4:B6) -> 13430.99 | C7: =SUM(C4:C6) -> 10768.44 | D7: =SUM(D4:D6) -> 11252.61 | E7: =SUM(E4:E6) -> 12772.3 | F7: =SUM(F4:F6) -> 7101.77 | G7: =SUM(G4:G6) -> 9457.81 | H7: =SUM(H4:H6) -> 10468.93 | I7: =SUM(I4:I6) -> 7774.68 | ... AW7: =SUM(AW4:AW6) -> 8955.9626
A8: 3.Tổng tiền có sẵn | B8: =+B2+B7 -> 14637.99 | C8: =+C2+C7 -> 14758.83 | D8: =+D2+D7 -> 16590.24 | E8: =+E2+E7 -> 19889.74 | F8: =+F2+F7 -> 17030.31 | G8: =+G2+G7 -> 17642.32 | H8: =+H2+H7 -> 19808.45 | I8: =+I2+I7 -> 17963.33 | ... AW8: =+AW2+AW7 -> 10461.08
A9: 4. Tiền chi ra
A10: 5.01 Mua hàng hóa | B10: 1386 | C10: 716.4 | D10: 392.4 | E10: 646.2 | F10: 394.2 | G10: 307.8 | H10: 937.8 | I10: 1409.4 | J10: 1170 | K10: 1157.4 | L10: 1317.6 | M10: 520.2 | N10: 385.2 | O10: 880.2 | P10: 1166.4 | Q10: 896.4 | R10: 1065.6 | S10: 610.2 | T10: 810 | U10: 847.8 | V10: 1087.2 | W10: 1132.2 | X10: 1200.6 | Y10: 1087.2 | Z10: 979.2 | AA10: 570.6 | AB10: 1213.2 | AC10: 1402.2 | AD10: 626.4 | AE10: 293.4 | AF10: 189 | AG10: 723.6 | AH10: 1024.2 | AI10: 1069.2 | AJ10: 343.8 | AK10: 442.8 | AL10: 324 | AM10: 507.6 | AN10: 943.2 | AO10: 961.2 | AP10: 817.2 | AQ10: 1063.8 | AR10: 194.4 | AS10: 522 | AT10: 1004.4 | AU10: 1117.8 | AV10: 232.2 | AW10: 392.4
A11: 5.02 Tiền lương | B11: 498 | C11: 488.4 | D11: 609.6 | E11: 550.8 | F11: 120 | G11: 862.8 | H11: 174 | I11: 270 | J11: 746.4 | K11: 376.8 | L11: 542.4 | M11: 650.4 | N11: 768 | O11: 856.8 | P11: 195.6 | Q11: 932.4 | R11: 877.2 | S11: 254.4 | T11: 676.8 | U11: 745.2 | V11: 778.8 | W11: 603.6 | X11: 378 | Y11: 511.2 | Z11: 168 | AA11: 627.6 | AB11: 878.4 | AC11: 652.8 | AD11: 813.6 | AE11: 374.4 | AF11: 446.4 | AG11: 285.6 | AH11: 355.2 | AI11: 720 | AJ11: 636 | AK11: 818.4 | AL11: 448.8 | AM11: 416.4 | AN11: 254.4 | AO11: 559.2 | AP11: 418.8 | AQ11: 632.4 | AR11: 752.4 | AS11: 619.2 | AT11: 322.8 | AU11: 438 | AV11: 658.8 | AW11: 276
A12: 5.03 Dịch vụ bên ngoài | B12: 283.2 | C12: 591.6 | D12: 711.6 | E12: 190.8 | F12: 442.8 | G12: 714 | H12: 325.2 | I12: 560.4 | J12: 524.4 | K12: 944.4 | L12: 728.4 | M12: 590.4 | N12: 806.4 | O12: 151.2 | P12: 205.2 | Q12: 247.2 | R12: 201.6 | S12: 740.4 | T12: 507.6 | U12: 176.4 | V12: 312 | W12: 210 | X12: 829.2 | Y12: 364.8 | Z12: 939.6 | AA12: 781.2 | AB12: 606 | AC12: 942 | AD12: 751.2 | AE12: 765.6 | AF12: 256.8 | AG12: 416.4 | AH12: 348 | AI12: 146.4 | AJ12: 259.2 | AK12: 480 | AL12: 717.6 | AM12: 356.4 | AN12: 601.2 | AO12: 148.8 | AP12: 924 | AQ12: 139.2 | AR12: 948 | AS12: 902.4 | AT12: 925.2 | AU12: 325.2 | AV12: 508.8 | AW12: 892.8
A13: 5.04 Vật tư, thiết bị | B13: 204 | C13: 807.6 | D13: 534 | E13: 944.4 | F13: 481.2 | G13: 482.4 | H13: 766.8 | I13: 235.2 | J13: 225.6 | K13: 621.6 | L13: 201.6 | M13: 360 | N13: 510 | O13: 370.8 | P13: 244.8 | Q13: 228 | R13: 951.6 | S13: 148.8 | T13: 231.6 | U13: 903.6 | V13: 486 | W13: 862.8 | X13: 345.6 | Y13: 543.6 | Z13: 278.4 | AA13: 147.6 | AB13: 823.2 | AC13: 895.2 | AD13: 280.8 | AE13: 608.4 | AF13: 819.6 | AG13: 796.8 | AH13: 277.2 | AI13: 134.4 | AJ13: 320.4 | AK13: 832.8 | AL13: 762 | AM13: 889.2 | AN13: 856.8 | AO13: 459.6 | AP13: 334.8 | AQ13: 181.2 | AR13: 328.8 | AS13: 859.2 | AT13: 325.2 | AU13: 727.2 | AV13: 726 | AW13: 211.2
A14: 5.05 Sửa chữa và bảo trì | B14: 955.2 | C14: 457.2 | D14: 520.8 | E14: 224.4 | F14: 218.4 | G14: 507.6 | H14: 382.8 | I14: 326.4 | J14: 918 | K14: 510 | L14: 637.2 | M14: 280.8 | N14: 822 | O14: 146.4 | P14: 124.8 | Q14: 321.6 | R14: 375.6 | S14: 848.4 | T14: 492 | U14: 718.8 | V14: 295.2 | W14: 496.8 | X14: 860.4 | Y14: 308.4 | Z14: 499.2 | AA14: 765.6 | AB14: 751.2 | AC14: 393.6 | AD14: 937.2 | AE14: 913.2 | AF14: 409.2 | AG14: 795.6 | AH14: 342 | AI14: 633.6 | AJ14: 447.6 | AK14: 676.8 | AL14: 129.6 | AM14: 792 | AN14: 253.2 | AO14: 790.8 | AP14: 933.6 | AQ14: 735.6 | AR14: 787.2 | AS14: 490.8 | AT14: 816 | AU14: 144 | AV14: 354 | AW14: 864
A15: 5.06 Quảng cáo | B15: 580.8 | C15: 192 | D15: 933.6 | E15: 433.2 | F15: 154.8 | G15: 294 | H15: 907.2 | I15: 409.2 | J15: 625.2 | K15: 585.6 | L15: 853.2 | M15: 766.8 | N15: 142.8 | O15: 165.6 | P15: 514.8 | Q15: 958.8 | R15: 373.2 | S15: 567.6 | T15: 938.4 | U15: 549.6 | V15: 724.8 | W15: 507.6 | X15: 772.8 | Y15: 730.8 | Z15: 285.6 | AA15: 924 | AB15: 284.4 | AC15: 175.2 | AD15: 734.4 | AE15: 843.6 | AF15: 532.8 | AG15: 728.4 | AH15: 711.6 | AI15: 806.4 | AJ15: 242.4 | AK15: 204 | AL15: 931.2 | AM15: 468 | AN15: 148.8 | AO15: 157.2 | AP15: 234 | AQ15: 270 | AR15: 678 | AS15: 268.8 | AT15: 279.6 | AU15: 874.8 | AV15: 308.4 | AW15: 831.6
A16: 5.07 Vận chuyển | B16: 246 | C16: 448.8 | D16: 132 | E16: 931.2 | F16: 493.2 | G16: 456 | H16: 544.8 | I16: 138 | J16: 363.6 | K16: 656.4 | L16: 471.6 | M16: 872.4 | N16: 884.4 | O16: 460.8 | P16: 613.2 | Q16: 943.2 | R16: 854.4 | S16: 409.2 | T16: 668.4 | U16: 303.6 | V16: 757.2 | W16: 676.8 | X16: 340.8 | Y16: 560.4 | Z16: 447.6 | AA16: 706.8 | AB16: 906 | AC16: 705.6 | AD16: 598.8 | AE16: 603.6 | AF16: 218.4 | AG16: 708 | AH16: 444 | AI16: 721.2 | AJ16: 766.8 | AK16: 661.2 | AL16: 609.6 | AM16: 153.6 | AN16: 861.6 | AO16: 805.2 | AP16: 193.2 | AQ16: 453.6 | AR16: 618 | AS16: 414 | AT16: 822 | AU16: 276 | AV16: 487.2 | AW16: 530.4
A17: 5.08 Pháp lý | B17: 146.4 | C17: 399.6 | D17: 554.4 | E17: 592.8 | F17: 225.6 | G17: 130.8 | H17: 444 | I17: 277.2 | J17: 798 | K17: 873.6 | L17: 601.2 | M17: 396 | N17: 942 | O17: 726 | P17: 837.6 | Q17: 141.6 | R17: 860.4 | S17: 567.6 | T17: 752.4 | U17: 642 | V17: 284.4 | W17: 476.4 | X17: 222 | Y17: 661.2 | Z17: 750 | AA17: 440.4 | AB17: 778.8 | AC17: 525.6 | AD17: 852 | AE17: 282 | AF17: 888 | AG17: 960 | AH17: 531.6 | AI17: 745.2 | AJ17: 218.4 | AK17: 814.8 | AL17: 220.8 | AM17: 925.2 | AN17: 532.8 | AO17: 853.2 | AP17: 378 | AQ17: 349.2 | AR17: 666 | AS17: 158.4 | AT17: 254.4 | AU17: 704.4 | AV17: 680.4 | AW17: 804
A18: 5.09 Thuê tài sản | B18: 734.4 | C18: 864 | D18: 680.4 | E18: 488.4 | F18: 934.8 | G18: 361.2 | H18: 906 | I18: 692.4 | J18: 159.6 | K18: 489.6 | L18: 564 | M18: 904.8 | N18: 465.6 | O18: 882 | P18: 759.6 | Q18: 420 | R18: 556.8 | S18: 316.8 | T18: 644.4 | U18: 165.6 | V18: 678 | W18: 439.2 | X18: 355.2 | Y18: 943.2 | Z18: 138 | AA18: 674.4 | AB18: 778.8 | AC18: 222 | AD18: 124.8 | AE18: 336 | AF18: 621.6 | AG18: 339.6 | AH18: 687.6 | AI18: 912 | AJ18: 655.2 | AK18: 338.4 | AL18: 537.6 | AM18: 706.8 | AN18: 194.4 | AO18: 928.8 | AP18: 645.6 | AQ18: 916.8 | AR18: 540 | AS18: 613.2 | AT18: 744 | AU18: 939.6 | AV18: 841.2 | AW18: 469.2
A19: 5.10 Điện thoại | B19: 421.2 | C19: 693.6 | D19: 237.6 | E19: 542.4 | F19: 816 | G19: 692.4 | H19: 565.2 | I19: 956.4 | J19: 336 | K19: 645.6 | L19: 728.4 | M19: 237.6 | N19: 687.6 | O19: 639.6 | P19: 241.2 | Q19: 350.4 | R19: 362.4 | S19: 338.4 | T19: 770.4 | U19: 679.2 | V19: 250.8 | W19: 363.6 | X19: 336 | Y19: 856.8 | Z19: 649.2 | AA19: 885.6 | AB19: 518.4 | AC19: 734.4 | AD19: 588 | AE19: 397.2 | AF19: 412.8 | AG19: 196.8 | AH19: 450 | AI19: 699.6 | AJ19: 807.6 | AK19: 315.6 | AL19: 760.8 | AM19: 163.2 | AN19: 565.2 | AO19: 166.8 | AP19: 207.6 | AQ19: 211.2 | AR19: 648 | AS19: 841.2 | AT19: 745.2 | AU19: 862.8 | AV19: 212.4 | AW19: 505.2
A20: 5.11 TSCĐ | B20: 865.2 | C20: 724.8 | D20: 568.8 | E20: 722.4 | F20: 742.8 | G20: 710.4 | H20: 343.2 | I20: 549.6 | J20: 262.8 | K20: 636 | L20: 231.6 | M20: 172.8 | N20: 274.8 | O20: 222 | P20: 247.2 | Q20: 444 | R20: 844.8 | S20: 820.8 | T20: 742.8 | U20: 348 | V20: 878.4 | W20: 628.8 | X20: 223.2 | Y20: 265.2 | Z20: 813.6 | AA20: 880.8 | AB20: 178.8 | AC20: 320.4 | AD20: 332.4 | AE20: 730.8 | AF20: 752.4 | AG20: 769.2 | AH20: 148.8 | AI20: 627.6 | AJ20: 540 | AK20: 505.2 | AL20: 501.6 | AM20: 387.6 | AN20: 462 | AO20: 292.8 | AP20: 751.2 | AQ20: 860.4 | AR20: 127.2 | AS20: 466.8 | AT20: 550.8 | AU20: 512.4 | AV20: 735.6 | AW20: 547.2
A21: 5.12 Bảo hiểm | B21: 919.2 | C21: 496.8 | D21: 378 | E21: 369.6 | F21: 703.2 | G21: 327.6 | H21: 386.4 | I21: 531.6 | J21: 246 | K21: 664.8 | L21: 324 | M21: 944.4 | N21: 538.8 | O21: 646.8 | P21: 122.4 | Q21: 699.6 | R21: 824.4 | S21: 285.6 | T21: 372 | U21: 134.4 | V21: 813.6 | W21: 908.4 | X21: 650.4 | Y21: 919.2 | Z21: 516 | AA21: 408 | AB21: 175.2 | AC21: 670.8 | AD21: 338.4 | AE21: 520.8 | AF21: 872.4 | AG21: 879.6 | AH21: 844.8 | AI21: 445.2 | AJ21: 147.6 | AK21: 772.8 | AL21: 463.2 | AM21: 754.8 | AN21: 212.4 | AO21: 801.6 | AP21: 490.8 | AQ21: 794.4 | AR21: 399.6 | AS21: 229.2 | AT21: 528 | AU21: 146.4 | AV21: 795.6 | AW21: 378
... A27: 5.18 Chi cổ tức | B27: 700.8 | C27: 546 | D27: 399.6 | E27: 648 | F27: 501.6 | G27: 764.4 | H27: 525.6 | I27: 500.4 | J27: 604.8 | K27: 762 | L27: 391.2 | M27: 738 | N27: 627.6 | O27: 439.2 | P27: 387.6 | Q27: 822 | R27: 382.8 | S27: 486 | T27: 723.6 | U27: 568.8 | V27: 798 | W27: 380.4 | X27: 406.8 | Y27: 502.8 | Z27: 382.8 | AA27: 744 | AB27: 602.4 | AC27: 736.8 | AD27: 723.6 | AE27: 741.6 | AF27: 385.2 | AG27: 561.6 | AH27: 736.8 | AI27: 363.6 | AJ27: 721.2 | AK27: 440.4 | AL27: 656.4 | AM27: 571.2 | AN27: 684 | AO27: 790.8 | AP27: 568.8 | AQ27: 781.2 | AR27: 362.4 | AS27: 678 | AT27: 810 | AU27: 722.4 | AV27: 676.8 | AW27: 420
A28: Tổng tiền chi | B28: =SUM(B10:B27) -> 10647.6 | C28: =SUM(C10:C27) -> 9421.2 | D28: =SUM(D10:D27) -> 9472.8 | E28: =SUM(E10:E27) -> 9961.2 | F28: =SUM(F10:F27) -> 8845.8 | G28: =SUM(G10:G27) -> 8302.8 | H28: =SUM(H10:H27) -> 9619.8 | I28: =SUM(I10:I27) -> 9091.2 | ... AW28: =SUM(AW10:AW27) -> 10069.8
A29: 5. Tiền cuối kỳ | B29: =+B8-B28 -> 3990.39 | C29: =+C8-C28 -> 5337.63 | D29: =+D8-D28 -> 7117.44 | E29: =+E8-E28 -> 9928.54 | F29: =+F8-F28 -> 8184.51 | G29: =+G8-G28 -> 9339.52 | H29: =+H8-H28 -> 10188.65 | I29: =+I8-I28 -> 8872.13 | ... AW29: =+AW8-AW28 -> 391.28031
A30: Dữ liệu khác
A31: A. Doanh thu | B31: 5007 | C31: 6748 | D31: 6923 | E31: 5358 | F31: 4120 | G31: 5392 | H31: 4812 | I31: 4457 | J31: 4080 | K31: 5502 | L31: 6688 | M31: 5376 | N31: 6884 | O31: 5133 | P31: 5765 | Q31: 5471 | R31: 6571 | S31: 6243 | T31: 4975 | U31: 4475 | V31: 6182 | W31: 6936 | X31: 4592 | Y31: 6509 | Z31: 6734 | AA31: 4428 | AB31: 4165 | AC31: 6776 | AD31: 6532 | AE31: 4241 | AF31: 5323 | AG31: 5780 | AH31: 5188 | AI31: 4347 | AJ31: 6503 | AK31: 5026 | AL31: 6802 | AM31: 4398 | AN31: 6248 | AO31: 5672 | AP31: 6761 | AQ31: 4374 | AR31: 6269 | AS31: 5903 | AT31: 6853 | AU31: 4153 | AV31: 5543 | AW31: 4513
A32: B. Khoản phải thu | B32: 6204 | C32: 5782 | D32: 5976 | E32: 3786 | F32: 4927 | G32: 5990 | H32: 5741 | I32: 5221 | J32: 3017 | K32: 4966 | L32: 3140 | M32: 6894 | N32: 5450 | O32: 5445 | P32: 6630 | Q32: 6207 | R32: 3412 | S32: 4723 | T32: 4089 | U32: 4923 | V32: 4700 | W32: 3183 | X32: 6767 | Y32: 4122 | Z32: 5383 | AA32: 6359 | AB32: 5692 | AC32: 3856 | AD32: 5000 | AE32: 6196 | AF32: 4200 | AG32: 5495 | AH32: 6555 | AI32: 6263 | AJ32: 5350 | AK32: 4606 | AL32: 6859 | AM32: 4352 | AN32: 3545 | AO32: 6031 | AP32: 6371 | AQ32: 3699 | AR32: 5738 | AS32: 5662 | AT32: 5725 | AU32: 5583 | AV32: 6009 | AW32: 3932
A33: C. Nợ xấu | B33: 5314 | C33: 3852 | D33: 5297 | E33: 3230 | F33: 3161 | G33: 4367 | H33: 3792 | I33: 6360 | J33: 3671 | K33: 4777 | L33: 7000 | M33: 3154 | N33: 6076 | O33: 5931 | P33: 5367 | Q33: 6316 | R33: 4081 | S33: 3980 | T33: 5914 | U33: 3722 | V33: 4581 | W33: 3435 | X33: 3787 | Y33: 6959 | Z33: 6148 | AA33: 6165 | AB33: 3657 | AC33: 4246 | AD33: 3410 | AE33: 6584 | AF33: 6191 | AG33: 6313 | AH33: 4885 | AI33: 6454 | AJ33: 3583 | AK33: 6018 | AL33: 4006 | AM33: 5638 | AN33: 6648 | AO33: 6103 | AP33: 5559 | AQ33: 6243 | AR33: 6551 | AS33: 4022 | AT33: 6668 | AU33: 4482 | AV33: 4661 | AW33: 6764
A34: D. Hàng tồn kho | B34: 5269 | C34: 5806 | D34: 3571 | E34: 3780 | F34: 4780 | G34: 3533 | H34: 6782 | I34: 3367 | J34: 3182 | K34: 4380 | L34: 4596 | M34: 3232 | N34: 4020 | O34: 4603 | P34: 5873 | Q34: 5764 | R34: 3270 | S34: 5425 | T34: 5558 | U34: 6460 | V34: 4970 | W34: 5177 | X34: 3718 | Y34: 4701 | Z34: 6037 | AA34: 3806 | AB34: 4026 | AC34: 4644 | AD34: 5096 | AE34: 3077 | AF34: 3620 | AG34: 4934 | AH34: 6882 | AI34: 5182 | AJ34: 5570 | AK34: 3080 | AL34: 5070 | AM34: 4364 | AN34: 4716 | AO34: 4059 | AP34: 6323 | AQ34: 6939 | AR34: 5964 | AS34: 4365 | AT34: 6070 | AU34: 3581 | AV34: 4200 | AW34: 5952
A35: E. Nợ phải trả | B35: 5863 | C35: 5132 | D35: 3837 | E35: 6905 | F35: 5694 | G35: 5460 | H35: 5647 | I35: 5306 | J35: 6045 | K35: 5848 | L35: 5469 | M35: 4085 | N35: 6400 | O35: 4893 | P35: 6955 | Q35: 4586 | R35: 4461 | S35: 6826 | T35: 6465 | U35: 6133 | V35: 4634 | W35: 3366 | X35: 6486 | Y35: 5474 | Z35: 5330 | AA35: 3521 | AB35: 3133 | AC35: 3647 | AD35: 3540 | AE35: 5514 | AF35: 3423 | AG35: 4249 | AH35: 5282 | AI35: 6715 | AJ35: 4737 | AK35: 3465 | AL35: 6325 | AM35: 3695 | AN35: 3838 | AO35: 5289 | AP35: 3951 | AQ35: 4892 | AR35: 5630 | AS35: 6380 | AT35: 3230 | AU35: 4987 | AV35: 3428 | AW35: 4698
A36: F. Khấu hao | B36: 4637 | C36: 6314 | D36: 4262 | E36: 5181 | F36: 4179 | G36: 3679 | H36: 3136 | I36: 5538 | J36: 4436 | K36: 3592 | L36: 5645 | M36: 5337 | N36: 4584 | O36: 5147 | P36: 4210 | Q36: 5840 | R36: 6342 | S36: 4744 | T36: 4712 | U36: 5697 | V36: 3326 | W36: 4392 | X36: 5116 | Y36: 5889 | Z36: 5981 | AA36: 3083 | AB36: 4205 | AC36: 4433 | AD36: 5587 | AE36: 4667 | AF36: 4576 | AG36: 4384 | AH36: 3737 | AI36: 5422 | AJ36: 3321 | AK36: 3482 | AL36: 3114 | AM36: 3057 | AN36: 3820 | AO36: 4409 | AP36: 3564 | AQ36: 4956 | AR36: 6621 | AS36: 4679 | AT36: 3636 | AU36: 4876 | AV36: 5134 | AW36: 6286

Sheet TT
A1: Thời điểm báo cáo | B1: 43101
B3: 42736 | C3: =EDATE(B3,1) -> 42767 | D3: =EDATE(C3,1) -> 42795 | E3: =EDATE(D3,1) -> 42826 | F3: =EDATE(E3,1) -> 42856 | G3: =EDATE(F3,1) -> 42887 | H3: =EDATE(G3,1) -> 42917 | I3: =EDATE(H3,1) -> 42948 | J3: =EDATE(I3,1) -> 42979 | ... AW3: =EDATE(AV3,1) -> 44166
B4: =IF(B3<$B$1,"Thực tế","Kế hoạch") -> Thực tế | C4: =IF(C3<$B$1,"Thực tế","Kế hoạch") -> Thực tế | D4: =IF(D3<$B$1,"Thực tế","Kế hoạch") -> Thực tế | E4: =IF(E3<$B$1,"Thực tế","Kế hoạch") -> Thực tế | F4: =IF(F3<$B$1,"Thực tế","Kế hoạch") -> Thực tế | G4: =IF(G3<$B$1,"Thực tế","Kế hoạch") -> Thực tế | H4: =IF(H3<$B$1,"Thực tế","Kế hoạch") -> Thực tế | I4: =IF(I3<$B$1,"Thực tế","Kế hoạch") -> Thực tế | ... AW4: =IF(AW3<$B$1,"Thực tế","Kế hoạch") -> Kế hoạch
A5: 1. Tiền đầu kỳ | B5: =KH!B2 -> 1207 | C5: =B32 -> 5608.3725 | D5: =C32 -> 5708.985 | E5: =D32 -> 6506.885 | F5: =E32 -> 11264.167 | G5: =F32 -> 8531.5575 | H5: =G32 -> 11229.48 | I5: =H32 -> 11646.905 | J5: =I32 -> 11084.145 | ... AW5: =AV32 -> 6185.1502
A6: 2. Tiền thu
A7: 2.01 Từ hoạt động kinh doanh | B7: 4512 | C7: 2436 | D7: 2713 | E7: 3786 | F7: 2421 | G7: 4284 | H7: 4485 | I7: 2692 | J7: 3433 | K7: 3856 | L7: 3931 | M7: 3559 | N7: =KH!N4 -> 2872.08 | O7: =KH!O4 -> 3559.5 | P7: =KH!P4 -> 2601 | Q7: =KH!Q4 -> 1603.18 | R7: =KH!R4 -> 4168.9 | S7: =KH!S4 -> 4397.49 | T7: =KH!T4 -> 1909.2 | U7: =KH!U4 -> 2918 | ... AW7: =KH!AW4 -> 4761.9626
A8: 2.02 Từ lãi tiền gửi, đầu tư, góp vốn | B8: 4697 | C8: 4644 | D8: 4915 | E8: 4068 | F8: 3370 | G8: 3343 | H8: 3046 | I8: 3244 | J8: 2156 | K8: 3596 | L8: 4674 | M8: 2707 | N8: =KH!N5 -> 3392.62 | O8: =KH!O5 -> 3709.4 | P8: =KH!P5 -> 2881.18 | Q8: =KH!Q5 -> 5451.21 | R8: =KH!R5 -> 4230.52 | S8: =KH!S5 -> 2675.52 | T8: =KH!T5 -> 2731.2 | U8: =KH!U5 -> 2215.2 | ... AW8: =KH!AW5 -> 2064
A9: 2.03 Từ khoản vay ngắn hạn, dài hạn | B9: 4560 | C9: 2148 | D9: 2433 | E9: 4975 | F9: 2174 | G9: 4658 | H9: 3010 | I9: 3194 | J9: 2670 | K9: 2557 | L9: 3407 | M9: 3046 | N9: =KH!N6 -> 4213.72 | O9: =KH!O6 -> 3266.1 | P9: =KH!P6 -> 2351.13 | Q9: =KH!Q6 -> 3556.21 | R9: =KH!R6 -> 5069.28 | S9: =KH!S6 -> 5080.58 | T9: =KH!T6 -> 2951.86 | U9: =KH!U6 -> 2955.82 | ... AW9: =KH!AW6 -> 2130
A10: Tổng thu | B10: =SUM(B7:B9) -> 13769 | C10: =SUM(C7:C9) -> 9228 | D10: =SUM(D7:D9) -> 10061 | E10: =SUM(E7:E9) -> 12829 | F10: =SUM(F7:F9) -> 7965 | G10: =SUM(G7:G9) -> 12285 | H10: =SUM(H7:H9) -> 10541 | I10: =SUM(I7:I9) -> 9130 | ... M10: =SUM(M7:M9) -> 9312 | N10: =KH!N7 -> 10478.42 | O10: =KH!O7 -> 10535 | P10: =KH!P7 -> 7833.31 | Q10: =KH!Q7 -> 10610.6 | R10: =KH!R7 -> 13468.7 | S10: =KH!S7 -> 12153.59 | T10: =KH!T7 -> 7592.26 | U10: =KH!U7 -> 8089.02 | ... AW10: =KH!AW7 -> 8955.9626
A11: 3.Tổng tiền có sẵn | B11: =+B5+B10 -> 14976 | C11: =+C5+C10 -> 14836.372 | D11: =+D5+D10 -> 15769.985 | E11: =+E5+E10 -> 19335.885 | F11: =+F5+F10 -> 19229.167 | G11: =+G5+G10 -> 20816.557 | H11: =+H5+H10 -> 21770.48 | I11: =+I5+I10 -> 20776.905 | ... AW11: =+AW5+AW10 -> 15141.113
A12: 4. Tiền chi ra
A13: 5.01 Mua hàng hóa | B13: 1353.0825 | C13: 989.2575 | D13: 1016.9775 | E13: 566.5275 | F13: 1372.14 | G13: 365.5575 | H13: 1176.3675 | I13: 649.6875 | J13: 479.9025 | K13: 1141.7175 | L13: 332.64 | M13: 914.76 | N13: =KH!N10 -> 385.2 | O13: =KH!O10 -> 880.2 | P13: =KH!P10 -> 1166.4 | Q13: =KH!Q10 -> 896.4 | R13: =KH!R10 -> 1065.6 | S13: =KH!S10 -> 610.2 | T13: =KH!T10 -> 810 | U13: =KH!U10 -> 847.8 | ... AW13: =KH!AW10 -> 392.4
A14: 5.02 Tiền lương | B14: 845.46 | C14: 222.915 | D14: 317.625 | E14: 895.125 | F14: 738.045 | G14: 460.845 | H14: 234.465 | I14: 495.495 | J14: 605.22 | K14: 814.275 | L14: 900.9 | M14: 162.855 | N14: =KH!N11 -> 768 | O14: =KH!O11 -> 856.8 | P14: =KH!P11 -> 195.6 | Q14: =KH!Q11 -> 932.4 | R14: =KH!R11 -> 877.2 | S14: =KH!S11 -> 254.4 | T14: =KH!T11 -> 676.8 | U14: =KH!U11 -> 745.2 | ... AW14: =KH!AW11 -> 276
A15: 5.03 Dịch vụ bên ngoài | B15: 304.92 | C15: 528.99 | D15: 227.535 | E15: 168.63 | F15: 267.96 | G15: 641.025 | H15: 486.255 | I15: 458.535 | J15: 787.71 | K15: 304.92 | L15: 569.415 | M15: 333.795 | N15: =KH!N12 -> 806.4 | O15: =KH!O12 -> 151.2 | P15: =KH!P12 -> 205.2 | Q15: =KH!Q12 -> 247.2 | R15: =KH!R12 -> 201.6 | S15: =KH!S12 -> 740.4 | T15: =KH!T12 -> 507.6 | U15: =KH!U12 -> 176.4 | ... AW15: =KH!AW12 -> 892.8
A16: 5.04 Vật tư, thiết bị | B16: 383.46 | C16: 889.35 | D16: 576.345 | E16: 480.48 | F16: 748.44 | G16: 345.345 | H16: 755.37 | I16: 765.765 | J16: 668.745 | K16: 852.39 | L16: 853.545 | M16: 425.04 | N16: =KH!N13 -> 510 | O16: =KH!O13 -> 370.8 | P16: =KH!P13 -> 244.8 | Q16: =KH!Q13 -> 228 | R16: =KH!R13 -> 951.6 | S16: =KH!S13 -> 148.8 | T16: =KH!T13 -> 231.6 | U16: =KH!U13 -> 903.6 | ... AW16: =KH!AW13 -> 211.2
A17: 5.05 Sửa chữa và bảo trì | B17: 561.33 | C17: 194.04 | D17: 295.68 | E17: 910.14 | F17: 623.7 | G17: 769.23 | H17: 888.195 | I17: 589.05 | J17: 771.54 | K17: 768.075 | L17: 833.91 | M17: 426.195 | N17: =KH!N14 -> 822 | O17: =KH!O14 -> 146.4 | P17: =KH!P14 -> 124.8 | Q17: =KH!Q14 -> 321.6 | R17: =KH!R14 -> 375.6 | S17: =KH!S14 -> 848.4 | T17: =KH!T14 -> 492 | U17: =KH!U14 -> 718.8 | ... AW17: =KH!AW14 -> 864
A18: 5.06 Quảng cáo | B18: 369.6 | C18: 279.51 | D18: 507.045 | E18: 311.85 | F18: 726.495 | G18: 639.87 | H18: 756.525 | I18: 517.44 | J18: 481.635 | K18: 577.5 | L18: 167.475 | M18: 751.905 | N18: =KH!N15 -> 142.8 | O18: =KH!O15 -> 165.6 | P18: =KH!P15 -> 514.8 | Q18: =KH!Q15 -> 958.8 | R18: =KH!R15 -> 373.2 | S18: =KH!S15 -> 567.6 | T18: =KH!T15 -> 938.4 | U18: =KH!U15 -> 549.6 | ... AW18: =KH!AW15 -> 831.6
A19: 5.07 Vận chuyển | B19: 532.455 | C19: 738.045 | D19: 704.55 | E19: 921.69 | F19: 198.66 | G19: 903.21 | H19: 125.895 | I19: 165.165 | J19: 609.84 | K19: 304.92 | L19: 449.295 | M19: 197.505 | N19: =KH!N16 -> 884.4 | O19: =KH!O16 -> 460.8 | P19: =KH!P16 -> 613.2 | Q19: =KH!Q16 -> 943.2 | R19: =KH!R16 -> 854.4 | S19: =KH!S16 -> 409.2 | T19: =KH!T16 -> 668.4 | U19: =KH!U16 -> 303.6 | ... AW19: =KH!AW16 -> 530.4
A20: 5.08 Pháp lý | B20: 301.455 | C20: 362.67 | D20: 840.84 | E20: 209.055 | F20: 631.785 | G20: 422.73 | H20: 177.87 | I20: 412.335 | J20: 769.23 | K20: 632.94 | L20: 857.01 | M20: 758.835 | N20: =KH!N17 -> 942 | O20: =KH!O17 -> 726 | P20: =KH!P17 -> 837.6 | Q20: =KH!Q17 -> 141.6 | R20: =KH!R17 -> 860.4 | S20: =KH!S17 -> 567.6 | T20: =KH!T17 -> 752.4 | U20: =KH!U17 -> 642 | ... AW20: =KH!AW17 -> 804
A21: 5.09 Thuê tài sản | B21: 179.025 | C21: 761.145 | D21: 626.01 | E21: 446.985 | F21: 528.99 | G21: 381.15 | H21: 808.5 | I21: 446.985 | J21: 784.245 | K21: 284.13 | L21: 831.6 | M21: 256.41 | N21: =KH!N18 -> 465.6 | O21: =KH!O18 -> 882 | P21: =KH!P18 -> 759.6 | Q21: =KH!Q18 -> 420 | R21: =KH!R18 -> 556.8 | S21: =KH!S18 -> 316.8 | T21: =KH!T18 -> 644.4 | U21: =KH!U18 -> 165.6 | ... AW21: =KH!AW18 -> 469.2
A22: 5.10 Điện thoại | B22: 358.05 | C22: 676.83 | D22: 315.315 | E22: 401.94 | F22: 726.495 | G22: 799.26 | H22: 479.325 | I22: 541.695 | J22: 732.27 | K22: 328.02 | L22: 761.145 | M22: 167.475 | N22: =KH!N19 -> 687.6 | O22: =KH!O19 -> 639.6 | P22: =KH!P19 -> 241.2 | Q22: =KH!Q19 -> 350.4 | R22: =KH!R19 -> 362.4 | S22: =KH!S19 -> 338.4 | T22: =KH!T19 -> 770.4 | U22: =KH!U19 -> 679.2 | ... AW22: =KH!AW19 -> 505.2
A23: 5.11 TSCĐ | B23: 264.495 | C23: 228.69 | D23: 375.375 | E23: 221.76 | F23: 914.76 | G23: 873.18 | H23: 726.495 | I23: 504.735 | J23: 880.11 | K23: 143.22 | L23: 231 | M23: 490.875 | N23: =KH!N20 -> 274.8 | O23: =KH!O20 -> 222 | P23: =KH!P20 -> 247.2 | Q23: =KH!Q20 -> 444 | R23: =KH!R20 -> 844.8 | S23: =KH!S20 -> 820.8 | T23: =KH!T20 -> 742.8 | U23: =KH!U20 -> 348 | ... AW23: =KH!AW20 -> 547.2
A24: 5.12 Bảo hiểm | B24: 309.54 | C24: 175.56 | D24: 891.66 | E24: 148.995 | F24: 243.705 | G24: 530.145 | H24: 145.53 | I24: 545.16 | J24: 741.51 | K24: 398.475 | L24: 840.84 | M24: 400.785 | N24: =KH!N21 -> 538.8 | O24: =KH!O21 -> 646.8 | P24: =KH!P21 -> 122.4 | Q24: =KH!Q21 -> 699.6 | R24: =KH!R21 -> 824.4 | S24: =KH!S21 -> 285.6 | T24: =KH!T21 -> 372 | U24: =KH!U21 -> 134.4 | ... AW24: =KH!AW21 -> 378
A25: 5.13 Thuế, phí | B25: 326.865 | C25: 436.59 | D25: 246.5925 | E25: 264.495 | F25: 267.96 | G25: 374.22 | H25: 431.3925 | I25: 414.0675 | J25: 236.775 | K25: 440.6325 | L25: 393.855 | M25: 344.19 | N25: =(KH!N22)*0.5 -> 41.1 | O25: =(KH!O22)*0.5 -> 123.3 | P25: =(KH!P22)*0.5 -> 63.9 | Q25: =(KH!Q22)*0.5 -> 36.6 | R25: =(KH!R22)*0.5 -> 30.9 | S25: =(KH!S22)*0.5 -> 210 | T25: =(KH!T22)*0.5 -> 60.3 | U25: =(KH!U22)*0.5 -> 105 | ... AW25: =(KH!AW22)*0.5 -> 39.3
A26: 5.14 Lãi vay | B26: 710.325 | C26: 373.065 | D26: 191.73 | E26: 516.285 | F26: 362.67 | G26: 341.88 | H26: 652.575 | I26: 465.465 | J26: 317.625 | K26: 354.585 | L26: 486.255 | M26: 921.69 | N26: =KH!N23 -> 925.2 | O26: =KH!O23 -> 819.6 | P26: =KH!P23 -> 313.2 | Q26: =KH!Q23 -> 633.6 | R26: =KH!R23 -> 476.4 | S26: =KH!S23 -> 284.4 | T26: =KH!T23 -> 616.8 | U26: =KH!U23 -> 693.6 | ... AW26: =KH!AW23 -> 697.2
A27: 5.15 Chi phí khác | B27: 450.45 | C27: 681.45 | D27: 794.64 | E27: 228.69 | F27: 518.595 | G27: 266.805 | H27: 263.34 | I27: 661.815 | J27: 361.515 | K27: 169.785 | L27: 231 | M27: 367.29 | N27: =KH!N24 -> 609.6 | O27: =KH!O24 -> 232.8 | P27: =KH!P24 -> 372 | Q27: =KH!Q24 -> 496.8 | R27: =KH!R24 -> 435.6 | S27: =KH!S24 -> 864 | T27: =KH!T24 -> 778.8 | U27: =KH!U24 -> 447.6 | ... AW27: =KH!AW24 -> 594
A28: 5.16 Tiền chi trả nợ gốc vay | B28: 653.73 | C28: 361.515 | D28: 354.585 | E28: 347.655 | F28: 778.47 | G28: 680.295 | H28: 561.33 | I28: 799.26 | J28: 651.42 | K28: 458.535 | L28: 560.175 | M28: 755.37 | N28: =KH!N25 -> 379.2 | O28: =KH!O25 -> 602.4 | P28: =KH!P25 -> 562.8 | Q28: =KH!Q25 -> 740.4 | R28: =KH!R25 -> 450 | S28: =KH!S25 -> 748.8 | T28: =KH!T25 -> 361.2 | U28: =KH!U25 -> 411.6 | ... AW28: =KH!AW25 -> 792
A29: 5.17 Tiền chi đầu tư góp vốn vào đơn vị khác | B29: 682.605 | C29: 427.35 | D29: 416.955 | E29: 653.73 | F29: 649.11 | G29: 438.9 | H29: 705.705 | I29: 708.015 | J29: 430.815 | K29: 593.67 | L29: 480.48 | M29: 537.075 | N29: =KH!N26 -> 740.4 | O29: =KH!O26 -> 507.6 | P29: =KH!P26 -> 481.2 | Q29: =KH!Q26 -> 729.6 | R29: =KH!R26 -> 721.2 | S29: =KH!S26 -> 637.2 | T29: =KH!T26 -> 639.6 | U29: =KH!U26 -> 415.2 | ... AW29: =KH!AW26 -> 786
A30: 5.18 Chi cổ tức | B30: 780.78 | C30: 800.415 | D30: 563.64 | E30: 377.685 | F30: 399.63 | G30: 353.43 | H30: 748.44 | I30: 552.09 | J30: 723.03 | K30: 377.685 | L30: 410.025 | M30: 657.195 | N30: =KH!N27 -> 627.6 | O30: =KH!O27 -> 439.2 | P30: =KH!P27 -> 387.6 | Q30: =KH!Q27 -> 822 | R30: =KH!R27 -> 382.8 | S30: =KH!S27 -> 486 | T30: =KH!T27 -> 723.6 | U30: =KH!U27 -> 568.8 | ... AW30: =KH!AW27 -> 420
A31: Tổng tiền chi | B31: =SUM(B13:B30) -> 9367.6275 | C31: =SUM(C13:C30) -> 9127.3875 | D31: =SUM(D13:D30) -> 9263.1 | E31: =SUM(E13:E30) -> 8071.7175 | F31: =SUM(F13:F30) -> 10697.61 | G31: =SUM(G13:G30) -> 9587.0775 | H31: =SUM(H13:H30) -> 10123.575 | I31: =SUM(I13:I30) -> 9692.76 | ... M31: =SUM(M13:M30) -> 8869.245 | N31: =KH!N28 -> 10591.8 | O31: =KH!O28 -> 8996.4 | P31: =KH!P28 -> 7517.4 | Q31: =KH!Q28 -> 10078.8 | R31: =KH!R28 -> 10675.8 | S31: =KH!S28 -> 9348.6 | T31: =KH!T28 -> 10847.4 | U31: =KH!U28 -> 8961 | ... AW31: =KH!AW28 -> 10069.8
A32: 5. Tiền cuối kỳ | B32: =+B11-B31 -> 5608.3725 | C32: =+C11-C31 -> 5708.985 | D32: =+D11-D31 -> 6506.885 | E32: =+E11-E31 -> 11264.167 | F32: =+F11-F31 -> 8531.5575 | G32: =+G11-G31 -> 11229.48 | H32: =+H11-H31 -> 11646.905 | I32: =+I11-I31 -> 11084.145 | ... AW32: =+AW11-AW31 -> 5071.3128
A33: Dữ liệu hoạt động cần thiết [Non-cash flow information]
A34: A. Doanh thu | B34: 5717 | C34: 6553 | D34: 5663 | E34: 6252 | F34: 5717 | G34: 4516 | H34: 6231 | I34: 5763 | J34: 6479 | K34: 6142 | L34: 5372 | M34: 6419 | N34: =KH!N31 -> 6884 | O34: =KH!O31 -> 5133 | P34: =KH!P31 -> 5765 | Q34: =KH!Q31 -> 5471 | R34: =KH!R31 -> 6571 | S34: =KH!S31 -> 6243 | T34: =KH!T31 -> 4975 | U34: =KH!U31 -> 4475 | ... AW34: =KH!AW31 -> 4513
A35: B. Khoản phải thu | B35: 5770 | C35: 5095 | D35: 5452 | E35: 4687 | F35: 5662 | G35: 4199 | H35: 4094 | I35: 4233 | J35: 5162 | K35: 6578 | L35: 4361 | M35: 6916 | N35: =KH!N32 -> 5450 | O35: =KH!O32 -> 5445 | P35: =KH!P32 -> 6630 | Q35: =KH!Q32 -> 6207 | R35: =KH!R32 -> 3412 | S35: =KH!S32 -> 4723 | T35: =KH!T32 -> 4089 | U35: =KH!U32 -> 4923 | ... AW35: =KH!AW32 -> 3932
A36: C. Nợ xấu | B36: 5346 | C36: 4321 | D36: 4553 | E36: 6626 | F36: 5474 | G36: 4524 | H36: 6036 | I36: 5187 | J36: 5168 | K36: 6965 | L36: 5942 | M36: 4409 | N36: =KH!N33 -> 6076 | O36: =KH!O33 -> 5931 | P36: =KH!P33 -> 5367 | Q36: =KH!Q33 -> 6316 | R36: =KH!R33 -> 4081 | S36: =KH!S33 -> 3980 | T36: =KH!T33 -> 5914 | U36: =KH!U33 -> 3722 | ... AW36: =KH!AW33 -> 6764
A37: D. Hàng tồn kho | B37: 4076 | C37: 6242 | D37: 4368 | E37: 4047 | F37: 6832 | G37: 6603 | H37: 6033 | I37: 4287 | J37: 5927 | K37: 4030 | L37: 4466 | M37: 4952 | N37: =KH!N34 -> 4020 | O37: =KH!O34 -> 4603 | P37: =KH!P34 -> 5873 | Q37: =KH!Q34 -> 5764 | R37: =KH!R34 -> 3270 | S37: =KH!S34 -> 5425 | T37: =KH!T34 -> 5558 | U37: =KH!U34 -> 6460 | ... AW37: =KH!AW34 -> 5952
A38: E. Nợ phải trả | B38: 4505 | C38: 5070 | D38: 4261 | E38: 5820 | F38: 6271 | G38: 6634 | H38: 6297 | I38: 4259 | J38: 4578 | K38: 4588 | L38: 6756 | M38: 5343 | N38: =KH!N35 -> 6400 | O38: =KH!O35 -> 4893 | P38: =KH!P35 -> 6955 | Q38: =KH!Q35 -> 4586 | R38: =KH!R35 -> 4461 | S38: =KH!S35 -> 6826 | T38: =KH!T35 -> 6465 | U38: =KH!U35 -> 6133 | ... AW38: =KH!AW35 -> 4698
A39: F. Khấu hao | B39: 6565 | C39: 4233 | D39: 6075 | E39: 4182 | F39: 5112 | G39: 4347 | H39: 6574 | I39: 5997 | J39: 6307 | K39: 4001 | L39: 6528 | M39: 6503 | N39: =KH!N36 -> 4584 | O39: =KH!O36 -> 5147 | P39: =KH!P36 -> 4210 | Q39: =KH!Q36 -> 5840 | R39: =KH!R36 -> 6342 | S39: =KH!S36 -> 4744 | T39: =KH!T36 -> 4712 | U39: =KH!U36 -> 5697 | ... AW39: =KH!AW36 -> 6286

Sheet Calculation 2
B1: 42736 | C1: =EDATE(B1,1) -> 42767 | D1: =EDATE(C1,1) -> 42795 | E1: =EDATE(D1,1) -> 42826 | F1: =EDATE(E1,1) -> 42856 | G1: =EDATE(F1,1) -> 42887 | H1: =EDATE(G1,1) -> 42917 | I1: =EDATE(H1,1) -> 42948 | J1: =EDATE(I1,1) -> 42979 | ... M1: =EDATE(L1,1) -> 43070
A2: Thực thu | B2: =TT!B10 -> 13769 | C2: =TT!C10 -> 9228 | D2: =TT!D10 -> 10061 | E2: =TT!E10 -> 12829 | F2: =TT!F10 -> 7965 | G2: =TT!G10 -> 12285 | H2: =TT!H10 -> 10541 | I2: =TT!I10 -> 9130 | ... M2: =TT!M10 -> 9312
A3: Thực chi | B3: =-TT!B31 -> -9367.6275 | C3: =-TT!C31 -> -9127.3875 | D3: =-TT!D31 -> -9263.1 | E3: =-TT!E31 -> -8071.7175 | F3: =-TT!F31 -> -10697.61 | G3: =-TT!G31 -> -9587.0775 | H3: =-TT!H31 -> -10123.575 | I3: =-TT!I31 -> -9692.76 | ... M3: =-TT!M31 -> -8869.245
A4: Net dòng tiền | B4: =B2+B3 -> 4401.3725 | C4: =C2+C3 -> 100.6125 | D4: =D2+D3 -> 797.9 | E4: =E2+E3 -> 4757.2825 | F4: =F2+F3 -> -2732.61 | G4: =G2+G3 -> 2697.9225 | H4: =H2+H3 -> 417.425 | I4: =I2+I3 -> -562.76 | ... M4: =M2+M3 -> 442.755
B32: Đầu kỳ | C32: 42736 | D32: =EDATE(C32,1) -> 42767 | E32: =EDATE(D32,1) -> 42795 | F32: =EDATE(E32,1) -> 42826 | G32: =EDATE(F32,1) -> 42856 | H32: =EDATE(G32,1) -> 42887 | I32: =EDATE(H32,1) -> 42917 | J32: =EDATE(I32,1) -> 42948 | K32: =EDATE(J32,1) -> 42979 | ... N32: =EDATE(M32,1) -> 43070 | O32: Cuối kỳ
A33: Dòng thu thực tế | C33: =B2 -> 13769 | D33: =C2 -> 9228 | E33: =D2 -> 10061 | F33: =E2 -> 12829 | G33: =F2 -> 7965 | H33: =G2 -> 12285 | I33: =H2 -> 10541 | J33: =I2 -> 9130 | ... N33: =M2 -> 9312
A34: Dòng chi thực tế | C34: =B3 -> -9367.6275 | D34: =C3 -> -9127.3875 | E34: =D3 -> -9263.1 | F34: =E3 -> -8071.7175 | G34: =F3 -> -10697.61 | H34: =G3 -> -9587.0775 | I34: =H3 -> -10123.575 | J34: =I3 -> -9692.76 | ... N34: =M3 -> -8869.245
A35: NET | B35: =KH!B2 -> 1207 | C35: =SUM(C33:C34) -> 4401.3725 | D35: =SUM(D33:D34) -> 100.6125 | E35: =SUM(E33:E34) -> 797.9 | F35: =SUM(F33:F34) -> 4757.2825 | G35: =SUM(G33:G34) -> -2732.61 | H35: =SUM(H33:H34) -> 2697.9225 | I35: =SUM(I33:I34) -> 417.425 | J35: =SUM(J33:J34) -> -562.76 | ... N35: =SUM(N33:N34) -> 442.755 | O35: =SUM(B35:N35) -> 11637.722
B66: Đầu kỳ | C66: 42736 | D66: =EDATE(C66,1) -> 42767 | E66: =EDATE(D66,1) -> 42795 | F66: =EDATE(E66,1) -> 42826 | G66: =EDATE(F66,1) -> 42856 | H66: =EDATE(G66,1) -> 42887 | I66: =EDATE(H66,1) -> 42917 | J66: =EDATE(I66,1) -> 42948 | K66: =EDATE(J66,1) -> 42979 | ... N66: =EDATE(M66,1) -> 43070 | O66: Cuối kỳ
A67: Số dư | C67: =B68 -> 1207 | D67: =C67+C69-D70 -> 5608.3725 | E67: =D67+D69-E70 -> 5708.985 | F67: =E67+E69-F70 -> 6506.885 | G67: =F67+F69-G70 -> 8531.5575 | H67: =G67+G69-H70 -> 8531.5575 | I67: =H67+H69-I70 -> 11229.48 | J67: =I67+I69-J70 -> 11084.145 | K67: =J67+J69-K70 -> 8310.0075 | ... N67: =M67+M69-N70 -> 11194.967
A68: Đầu kỳ | B68: =TT!B5 -> 1207
A69: Tăng (net) | C69: =IF(C72>0,C72,0) -> 4401.3725 | D69: =IF(D72>0,D72,0) -> 100.6125 | E69: =IF(E72>0,E72,0) -> 797.9 | F69: =IF(F72>0,F72,0) -> 4757.2825 | G69: =IF(G72>0,G72,0) -> 0 | H69: =IF(H72>0,H72,0) -> 2697.9225 | I69: =IF(I72>0,I72,0) -> 417.425 | J69: =IF(J72>0,J72,0) -> 0 | ... N69: =IF(N72>0,N72,0) -> 442.755
A70: Giảm (net) | C70: =IF(C72>0,0,-C72) -> 0 | D70: =IF(D72>0,0,-D72) -> 0 | E70: =IF(E72>0,0,-E72) -> 0 | F70: =IF(F72>0,0,-F72) -> 0 | G70: =IF(G72>0,0,-G72) -> 2732.61 | H70: =IF(H72>0,0,-H72) -> 0 | I70: =IF(I72>0,0,-I72) -> 0 | J70: =IF(J72>0,0,-J72) -> 562.76 | ... N70: =IF(N72>0,0,-N72) -> 0
A71: Cuối kỳ | O71: =N67+N69-N70 -> 11637.722
A72: NET dòng tiền | C72: =C35 -> 4401.3725 | D72: =D35 -> 100.6125 | E72: =E35 -> 797.9 | F72: =F35 -> 4757.2825 | G72: =G35 -> -2732.61 | H72: =H35 -> 2697.9225 | I72: =I35 -> 417.425 | J72: =J35 -> -562.76 | ... N72: =N35 -> 442.755
A75: Giai đoạn | B75: Số dư | C75: Đầu kỳ | D75: Tăng (net) | E75: Giảm (net) | F75: Cuối kỳ | G75: NET dòng tiền
A76: Đầu kỳ | C76: =B68 -> 1207 | G76: =C76 -> 1207
A77: 42736 | B77: =SUM(B76:D76)-E77 -> 1207 | D77: =MAX(G77,0) -> 4401.3725 | E77: =MAX(0,-G77) -> 0 | G77: =C35 -> 4401.3725
A78: 42767 | B78: =SUM(B77:D77)-E78 -> 5608.3725 | D78: =MAX(G78,0) -> 100.6125 | E78: =MAX(0,-G78) -> 0 | G78: =D35 -> 100.6125
A79: 42795 | B79: =SUM(B78:D78)-E79 -> 5708.985 | D79: =MAX(G79,0) -> 797.9 | E79: =MAX(0,-G79) -> 0 | G79: =E35 -> 797.9
A80: 42826 | B80: =SUM(B79:D79)-E80 -> 6506.885 | D80: =MAX(G80,0) -> 4757.2825 | E80: =MAX(0,-G80) -> 0 | G80: =F35 -> 4757.2825
A81: 42856 | B81: =SUM(B80:D80)-E81 -> 8531.5575 | D81: =MAX(G81,0) -> 0 | E81: =MAX(0,-G81) -> 2732.61 | G81: =G35 -> -2732.61
A82: 42887 | B82: =SUM(B81:D81)-E82 -> 8531.5575 | D82: =MAX(G82,0) -> 2697.9225 | E82: =MAX(0,-G82) -> 0 | G82: =H35 -> 2697.9225
A83: 42917 | B83: =SUM(B82:D82)-E83 -> 11229.48 | D83: =MAX(G83,0) -> 417.425 | E83: =MAX(0,-G83) -> 0 | G83: =I35 -> 417.425
A84: 42948 | B84: =SUM(B83:D83)-E84 -> 11084.145 | D84: =MAX(G84,0) -> 0 | E84: =MAX(0,-G84) -> 562.76 | G84: =J35 -> -562.76
A85: 42979 | B85: =SUM(B84:D84)-E85 -> 8310.0075 | D85: =MAX(G85,0) -> 0 | E85: =MAX(0,-G85) -> 2774.1375 | G85: =K35 -> -2774.1375
A86: 43009 | B86: =SUM(B85:D85)-E86 -> 8310.0075 | D86: =MAX(G86,0) -> 1063.525 | E86: =MAX(0,-G86) -> 0 | G86: =L35 -> 1063.525
A87: 43040 | B87: =SUM(B86:D86)-E87 -> 9373.5325 | D87: =MAX(G87,0) -> 1821.435 | E87: =MAX(0,-G87) -> 0 | G87: =M35 -> 1821.435
A88: 43070 | B88: =SUM(B87:D87)-E88 -> 11194.967 | D88: =MAX(G88,0) -> 442.755 | E88: =MAX(0,-G88) -> 0 | G88: =N35 -> 442.755
A89: Cuối kỳ | F89: =G89 -> 11637.722 | G89: =B88+G88 -> 11637.722

Sheet Calculation
A1: 1
A2: =INDEX(TT!$A$3:$AJ$3,Calculation!$N$5) -> #REF!
A3: BÁO CÁO DÒNG TIỀN
B5: Đầu kỳ | C5: 42736 | D5: =EDATE(C5,1) -> 42767 | E5: =EDATE(D5,1) -> 42795 | F5: =EDATE(E5,1) -> 42826 | G5: =EDATE(F5,1) -> 42856 | H5: =EDATE(G5,1) -> 42887 | I5: =EDATE(H5,1) -> 42917 | J5: =EDATE(I5,1) -> 42948 | K5: =EDATE(J5,1) -> 42979 | ... N5: =EDATE(M5,1) -> 43070 | O5: Cuối kỳ
A7: Dòng thu | C7: =TT!B10 -> 13769 | D7: =TT!C10 -> 9228 | E7: =TT!D10 -> 10061 | F7: =TT!E10 -> 12829 | G7: =TT!F10 -> 7965 | H7: =TT!G10 -> 12285 | I7: =TT!H10 -> 10541 | J7: =TT!I10 -> 9130 | ... N7: =TT!M10 -> 9312
A8: Dòng chi | C8: =-TT!B31 -> -9367.6275 | D8: =-TT!C31 -> -9127.3875 | E8: =-TT!D31 -> -9263.1 | F8: =-TT!E31 -> -8071.7175 | G8: =-TT!F31 -> -10697.61 | H8: =-TT!G31 -> -9587.0775 | I8: =-TT!H31 -> -10123.575 | J8: =-TT!I31 -> -9692.76 | ... N8: =-TT!M31 -> -8869.245
A9: Net | B9: =TT!B5 -> 1207 | C9: =C7+C8 -> 4401.3725 | D9: =D7+D8 -> 100.6125 | E9: =E7+E8 -> 797.9 | F9: =F7+F8 -> 4757.2825 | G9: =G7+G8 -> -2732.61 | H9: =H7+H8 -> 2697.9225 | I9: =I7+I8 -> 417.425 | J9: =J7+J8 -> -562.76 | ... N9: =N7+N8 -> 442.755 | O9: =SUM(B9:N9) -> 11637.722
A12: Xếp hạng | B12: Loại Chi phí | C12: Thực tế | G12: top 10 cp xài nhiều tiền nhất
A13: =RANK(C13,$C$13:$C$30) -> 1 | B13: Mua hàng hóa | C13: =SUM(TT!B13:M13) -> 10358.618 | G13: Xếp hạng | H13: Loại CP | I13: Số tiền
A14: =RANK(C14,$C$13:$C$30) -> 7 | B14: Tiền lương | C14: =SUM(TT!B14:M14) -> 6693.225 | G14: 10 | H14: =VLOOKUP(G14,$A$13:$C$30,2,0) -> Điện thoại | I14: =VLOOKUP(H14,$B$13:$C$30,2,0) -> 6287.82
A15: =RANK(C15,$C$13:$C$30) -> 16 | B15: Dịch vụ bên ngoài | C15: =SUM(TT!B15:M15) -> 5079.69 | G15: 9 | H15: =VLOOKUP(G15,$A$13:$C$30,2,0) -> Thuê tài sản | I15: =VLOOKUP(H15,$B$13:$C$30,2,0) -> 6335.175
A16: =RANK(C16,$C$13:$C$30) -> 2 | B16: Vật tư, thiết bị | C16: =SUM(TT!B16:M16) -> 7744.275 | G16: 8 | H16: =VLOOKUP(G16,$A$13:$C$30,2,0) -> Pháp lý | I16: =VLOOKUP(H16,$B$13:$C$30,2,0) -> 6376.755
A17: =RANK(C17,$C$13:$C$30) -> 3 | B17: Sửa chữa và bảo trì | C17: =SUM(TT!B17:M17) -> 7631.085 | G17: 7 | H17: =VLOOKUP(G17,$A$13:$C$30,2,0) -> Tiền lương | I17: =VLOOKUP(H17,$B$13:$C$30,2,0) -> 6693.225
A18: =RANK(C18,$C$13:$C$30) -> 11 | B18: Quảng cáo | C18: =SUM(TT!B18:M18) -> 6086.85 | G18: 6 | H18: =VLOOKUP(G18,$A$13:$C$30,2,0) -> Tiền chi đầu tư góp vốn vào đơn vị khác | I18: =VLOOKUP(H18,$B$13:$C$30,2,0) -> 6724.41
A19: =RANK(C19,$C$13:$C$30) -> 13 | B19: Vận chuyển | C19: =SUM(TT!B19:M19) -> 5851.23 | G19: 5 | H19: =VLOOKUP(G19,$A$13:$C$30,2,0) -> Chi cổ tức | I19: =VLOOKUP(H19,$B$13:$C$30,2,0) -> 6744.045
A20: =RANK(C20,$C$13:$C$30) -> 8 | B20: Pháp lý | C20: =SUM(TT!B20:M20) -> 6376.755 | G20: 4 | H20: =VLOOKUP(G20,$A$13:$C$30,2,0) -> Tiền chi trả nợ gốc vay | I20: =VLOOKUP(H20,$B$13:$C$30,2,0) -> 6962.34
A21: =RANK(C21,$C$13:$C$30) -> 9 | B21: Thuê tài sản | C21: =SUM(TT!B21:M21) -> 6335.175 | G21: 3 | H21: =VLOOKUP(G21,$A$13:$C$30,2,0) -> Sửa chữa và bảo trì | I21: =VLOOKUP(H21,$B$13:$C$30,2,0) -> 7631.085
A22: =RANK(C22,$C$13:$C$30) -> 10 | B22: Điện thoại | C22: =SUM(TT!B22:M22) -> 6287.82 | G22: 2 | H22: =VLOOKUP(G22,$A$13:$C$30,2,0) -> Vật tư, thiết bị | I22: =VLOOKUP(H22,$B$13:$C$30,2,0) -> 7744.275
A23: =RANK(C23,$C$13:$C$30) -> 12 | B23: TSCĐ | C23: =SUM(TT!B23:M23) -> 5854.695 | G23: 1 | H23: =VLOOKUP(G23,$A$13:$C$30,2,0) -> Mua hàng hóa | I23: =VLOOKUP(H23,$B$13:$C$30,2,0) -> 10358.618
A24: =RANK(C24,$C$13:$C$30) -> 15 | B24: Bảo hiểm | C24: =SUM(TT!B24:M24) -> 5371.905
A25: =RANK(C25,$C$13:$C$30) -> 18 | B25: Thuế, phí | C25: =SUM(TT!B25:M25) -> 4177.635
A26: =RANK(C26,$C$13:$C$30) -> 14 | B26: Lãi vay | C26: =SUM(TT!B26:M26) -> 5694.15
A27: =RANK(C27,$C$13:$C$30) -> 17 | B27: Chi phí khác | C27: =SUM(TT!B27:M27) -> 4995.375
A28: =RANK(C28,$C$13:$C$30) -> 4 | B28: Tiền chi trả nợ gốc vay | C28: =SUM(TT!B28:M28) -> 6962.34
A29: =RANK(C29,$C$13:$C$30) -> 6 | B29: Tiền chi đầu tư góp vốn vào đơn vị khác | C29: =SUM(TT!B29:M29) -> 6724.41
A30: =RANK(C30,$C$13:$C$30) -> 5 | B30: Chi cổ tức | C30: =SUM(TT!B30:M30) -> 6744.045
A33: Xếp hạng | B33: Loại Chi phí | C33: Thực tế | D33: Kế hoạch | E33: Chênh lệch | G33: top 5 chi phí chi vượt nhiều nhất
A34: =RANK(E34,$E$34:$E$51) -> 8 | B34: Mua hàng hóa | C34: =SUM(TT!B13:M13) -> 10358.618 | D34: =SUM(KH!B10:M10) -> 10355.4 | E34: =C34-D34 -> 3.2175 | G34: Xếp hạng | I34: Thực tế | J34: Kế hoạch
A35: =RANK(E35,$E$34:$E$51) -> 5 | B35: Tiền lương | C35: =SUM(TT!B14:M14) -> 6693.225 | D35: =SUM(KH!B11:M11) -> 5889.6 | E35: =C35-D35 -> 803.625 | G35: 5 | H35: =VLOOKUP($G35,$A$34:$E$51,2,0) -> Tiền lương | I35: =VLOOKUP($G35,$A$34:$E$51,3,0) -> 6693.225 | J35: =VLOOKUP($G35,$A$34:$E$52,4,0) -> 5889.6
A36: =RANK(E36,$E$34:$E$51) -> 18 | B36: Dịch vụ bên ngoài | C36: =SUM(TT!B15:M15) -> 5079.69 | D36: =SUM(KH!B12:M12) -> 6607.2 | E36: =C36-D36 -> -1527.51 | G36: 4 | H36: =VLOOKUP($G36,$A$34:$E$51,2,0) -> Thuế, phí | I36: =VLOOKUP($G36,$A$34:$E$51,3,0) -> 4177.635 | J36: =VLOOKUP($G36,$A$34:$E$52,4,0) -> 3268.2
A37: =RANK(E37,$E$34:$E$51) -> 1 | B37: Vật tư, thiết bị | C37: =SUM(TT!B16:M16) -> 7744.275 | D37: =SUM(KH!B13:M13) -> 5864.4 | E37: =C37-D37 -> 1879.875 | G37: 3 | H37: =VLOOKUP($G37,$A$34:$E$51,2,0) -> Pháp lý | I37: =VLOOKUP($G37,$A$34:$E$51,3,0) -> 6376.755 | J37: =VLOOKUP($G37,$A$34:$E$52,4,0) -> 5439.6
A38: =RANK(E38,$E$34:$E$51) -> 2 | B38: Sửa chữa và bảo trì | C38: =SUM(TT!B17:M17) -> 7631.085 | D38: =SUM(KH!B14:M14) -> 5938.8 | E38: =C38-D38 -> 1692.285 | G38: 2 | H38: =VLOOKUP($G38,$A$34:$E$51,2,0) -> Sửa chữa và bảo trì | I38: =VLOOKUP($G38,$A$34:$E$51,3,0) -> 7631.085 | J38: =VLOOKUP($G38,$A$34:$E$52,4,0) -> 5938.8
A39: =RANK(E39,$E$34:$E$51) -> 13 | B39: Quảng cáo | C39: =SUM(TT!B18:M18) -> 6086.85 | D39: =SUM(KH!B15:M15) -> 6735.6 | E39: =C39-D39 -> -648.75 | G39: 1 | H39: =VLOOKUP($G39,$A$34:$E$51,2,0) -> Vật tư, thiết bị | I39: =VLOOKUP($G39,$A$34:$E$51,3,0) -> 7744.275 | J39: =VLOOKUP($G39,$A$34:$E$52,4,0) -> 5864.4
A40: =RANK(E40,$E$34:$E$51) -> 7 | B40: Vận chuyển | C40: =SUM(TT!B19:M19) -> 5851.23 | D40: =SUM(KH!B16:M16) -> 5754 | E40: =C40-D40 -> 97.23
A41: =RANK(E41,$E$34:$E$51) -> 3 | B41: Pháp lý | C41: =SUM(TT!B20:M20) -> 6376.755 | D41: =SUM(KH!B17:M17) -> 5439.6 | E41: =C41-D41 -> 937.155
A42: =RANK(E42,$E$34:$E$51) -> 17 | B42: Thuê tài sản | C42: =SUM(TT!B21:M21) -> 6335.175 | D42: =SUM(KH!B18:M18) -> 7779.6 | E42: =C42-D42 -> -1444.425
A43: =RANK(E43,$E$34:$E$51) -> 12 | B43: Điện thoại | C43: =SUM(TT!B22:M22) -> 6287.82 | D43: =SUM(KH!B19:M19) -> 6872.4 | E43: =C43-D43 -> -584.58 | G43: top 5 chi phí không chi vượt
A44: =RANK(E44,$E$34:$E$51) -> 14 | B44: TSCĐ | C44: =SUM(TT!B23:M23) -> 5854.695 | D44: =SUM(KH!B20:M20) -> 6530.4 | E44: =C44-D44 -> -675.705 | G44: Xếp hạng | I44: Thực tế | J44: Kế hoạch
A45: =RANK(E45,$E$34:$E$51) -> 16 | B45: Bảo hiểm | C45: =SUM(TT!B24:M24) -> 5371.905 | D45: =SUM(KH!B21:M21) -> 6291.6 | E45: =C45-D45 -> -919.695 | G45: 14 | H45: =VLOOKUP(G45,$A$34:$E$51,2,0) -> TSCĐ | I45: =VLOOKUP(G45,$A$34:$E$51,3,0) -> 5854.695 | J45: =VLOOKUP(G45,$A$34:$E$52,4,0) -> 6530.4
A46: =RANK(E46,$E$34:$E$51) -> 4 | B46: Thuế, phí | C46: =SUM(TT!B25:M25) -> 4177.635 | D46: =SUM(KH!B22:M22) -> 3268.2 | E46: =C46-D46 -> 909.435 | G46: 15 | H46: =VLOOKUP(G46,$A$34:$E$51,2,0) -> Tiền chi đầu tư góp vốn vào đơn vị khác | I46: =VLOOKUP(G46,$A$34:$E$51,3,0) -> 6724.41 | J46: =VLOOKUP(G46,$A$34:$E$52,4,0) -> 7498.8
A47: =RANK(E47,$E$34:$E$51) -> 6 | B47: Lãi vay | C47: =SUM(TT!B26:M26) -> 5694.15 | D47: =SUM(KH!B23:M23) -> 5108.4 | E47: =C47-D47 -> 585.75 | G47: 16 | H47: =VLOOKUP(G47,$A$34:$E$51,2,0) -> Bảo hiểm | I47: =VLOOKUP(G47,$A$34:$E$51,3,0) -> 5371.905 | J47: =VLOOKUP(G47,$A$34:$E$52,4,0) -> 6291.6
A48: =RANK(E48,$E$34:$E$51) -> 10 | B48: Chi phí khác | C48: =SUM(TT!B27:M27) -> 4995.375 | D48: =SUM(KH!B24:M24) -> 5151.6 | E48: =C48-D48 -> -156.225 | G48: 17 | H48: =VLOOKUP(G48,$A$34:$E$51,2,0) -> Thuê tài sản | I48: =VLOOKUP(G48,$A$34:$E$51,3,0) -> 6335.175 | J48: =VLOOKUP(G48,$A$34:$E$52,4,0) -> 7779.6
A49: =RANK(E49,$E$34:$E$51) -> 9 | B49: Tiền chi trả nợ gốc vay | C49: =SUM(TT!B28:M28) -> 6962.34 | D49: =SUM(KH!B25:M25) -> 6998.4 | E49: =C49-D49 -> -36.06 | G49: 18 | H49: =VLOOKUP(G49,$A$34:$E$51,2,0) -> Dịch vụ bên ngoài | I49: =VLOOKUP(G49,$A$34:$E$51,3,0) -> 5079.69 | J49: =VLOOKUP(G49,$A$34:$E$52,4,0) -> 6607.2
A50: =RANK(E50,$E$34:$E$51) -> 15 | B50: Tiền chi đầu tư góp vốn vào đơn vị khác | C50: =SUM(TT!B29:M29) -> 6724.41 | D50: =SUM(KH!B26:M26) -> 7498.8 | E50: =C50-D50 -> -774.39
A51: =RANK(E51,$E$34:$E$51) -> 11 | B51: Chi cổ tức | C51: =SUM(TT!B30:M30) -> 6744.045 | D51: =SUM(KH!B27:M27) -> 7082.4 | E51: =C51-D51 -> -338.355
A54: Chỉ tiêu | B54: Kế hoạch | C54: Thực tế | D54: Chênh lệch
A56: Từ hoạt động kinh doanh | B56: =SUM(KH!B4:M4) -> 39230.8 | C56: =SUM(TT!B7:M7) -> 42108 | D56: =C56/B56-1 -> 0.073340335
A57: Từ lãi tiền gửi, đầu tư, góp vốn | B57: =SUM(KH!B5:M5) -> 45346.12 | C57: =SUM(TT!B8:M8) -> 44460 | D57: =C57/B57-1 -> -0.019541253
A58: Từ khoản vay ngắn hạn, dài hạn | B58: =SUM(KH!B6:M6) -> 36340.17 | C58: =SUM(TT!B9:M9) -> 38832 | D58: =C58/B58-1 -> 0.068569575
A62: Dòng thu từ bán hàng so vs DT
B63: =C5 -> 42736 | C63: =D5 -> 42767 | D63: =E5 -> 42795 | E63: =F5 -> 42826 | F63: =G5 -> 42856 | G63: =H5 -> 42887 | H63: =I5 -> 42917 | I63: =J5 -> 42948 | ... M63: =N5 -> 43070
A64: Dòng thu từ hoạt động kinh doanh | B64: =TT!B7 -> 4512 | C64: =TT!C7 -> 2436 | D64: =TT!D7 -> 2713 | E64: =TT!E7 -> 3786 | F64: =TT!F7 -> 2421 | G64: =TT!G7 -> 4284 | H64: =TT!H7 -> 4485 | I64: =TT!I7 -> 2692 | ... M64: =TT!M7 -> 3559
A65: Doanh thu | B65: =TT!B34 -> 5717 | C65: =TT!C34 -> 6553 | D65: =TT!D34 -> 5663 | E65: =TT!E34 -> 6252 | F65: =TT!F34 -> 5717 | G65: =TT!G34 -> 4516 | H65: =TT!H34 -> 6231 | I65: =TT!I34 -> 5763 | ... M65: =TT!M34 -> 6419
A68: Dự báo dòng tiền 12 tháng | B68: Hiện tại | C68: =TT!N3 -> 43101 | D68: =TT!O3 -> 43132 | E68: =TT!P3 -> 43160 | F68: =TT!Q3 -> 43191 | G68: =TT!R3 -> 43221 | H68: =TT!S3 -> 43252 | I68: =TT!T3 -> 43282 | J68: =TT!U3 -> 43313 | ... N68: =TT!Y3 -> 43435 | O68: Sau 12 tháng
A70: Dòng thu | C70: =TT!N10 -> 10478.42 | D70: =TT!O10 -> 10535 | E70: =TT!P10 -> 7833.31 | F70: =TT!Q10 -> 10610.6 | G70: =TT!R10 -> 13468.7 | H70: =TT!S10 -> 12153.59 | I70: =TT!T10 -> 7592.26 | J70: =TT!U10 -> 8089.02 | ... N70: =TT!Y10 -> 8615.92
A71: Dòng chi | C71: =-TT!N31 -> -10591.8 | D71: =-TT!O31 -> -8996.4 | E71: =-TT!P31 -> -7517.4 | F71: =-TT!Q31 -> -10078.8 | G71: =-TT!R31 -> -10675.8 | H71: =-TT!S31 -> -9348.6 | I71: =-TT!T31 -> -10847.4 | J71: =-TT!U31 -> -8961 | ... N71: =-TT!Y31 -> -15055
A72: Net | B72: =O9 -> 11637.722 | C72: =C70+C71 -> -113.38 | D72: =D70+D71 -> 1538.6 | E72: =E70+E71 -> 315.91 | F72: =F70+F71 -> 531.8 | G72: =G70+G71 -> 2792.9 | H72: =H70+H71 -> 2804.99 | I72: =I70+I71 -> -3255.14 | J72: =J70+J71 -> -871.98 | ... N72: =N70+N71 -> -6439.08 | O72: =B72+SUM(C72:N72) -> 6526.2025

Sheet Dashboard
